BEGIN:VCALENDAR
VERSION:2.0
PRODID:-//ChamberMaster//Event Calendar 2.0//EN
METHOD:PUBLISH
X-PUBLISHED-TTL:P3D
REFRESH-INTERVAL:P3D
CALSCALE:GREGORIAN
BEGIN:VEVENT
DTSTART;VALUE=DATE:20140801
DTEND;VALUE=DATE:20140802
TRANSP:TRANSPARENT
X-MICROSOFT-CDO-ALLDAYEVENT:TRUE
SUMMARY:Celia Thaxter Garden Tours
DESCRIPTION:Reminisce about an earlier time as taking a tour or walk through Celia Thaxter Garden Tours. "A very special garden\, ever since I could remember anything\, flowers have been like a dear freinds to me\, comforters\, inspirers\, powers to uplift and to cheer" Celia Thaxter.
X-ALT-DESC;FMTTYPE=text/html:&nbsp\;&nbsp\;R<strong><font face="Segoe UI Semibold">eminisce about an earlier time as taking a tour or walk through Celia Thaxter Garden Tours.&nbsp\;&quot\;A very special garden\, ever since I&nbsp\;could remember anything\, flowers have been like a dear freinds to me\, comforters\, inspirers\, powers to uplift and to cheer&quot\; Celia Thaxter. </font></strong>
LOCATION:
UID:e.1659.2127
SEQUENCE:3
DTSTAMP:20260419T173822Z
URL:https://business.portsmouthchamber.org/events/details/celia-thaxter-garden-tours-08-01-2014-2127
END:VEVENT

END:VCALENDAR
