BEGIN:VCALENDAR
VERSION:2.0
PRODID:-//ChamberMaster//Event Calendar 2.0//EN
METHOD:PUBLISH
X-PUBLISHED-TTL:P3D
REFRESH-INTERVAL:P3D
CALSCALE:GREGORIAN
BEGIN:VEVENT
DTSTART;VALUE=DATE:20140809
DTEND;VALUE=DATE:20140810
TRANSP:TRANSPARENT
X-MICROSOFT-CDO-ALLDAYEVENT:TRUE
SUMMARY:Celia Thaxter Garden Tours
DESCRIPTION:
X-ALT-DESC;FMTTYPE=text/html:
LOCATION:
UID:e.1659.2128
SEQUENCE:3
DTSTAMP:20260419T173908Z
URL:https://business.portsmouthchamber.org/events/details/celia-thaxter-garden-tours-08-09-2014-2128
END:VEVENT

END:VCALENDAR
