BEGIN:VCALENDAR
VERSION:2.0
PRODID:-//ChamberMaster//Event Calendar 2.0//EN
METHOD:PUBLISH
X-PUBLISHED-TTL:P3D
REFRESH-INTERVAL:P3D
CALSCALE:GREGORIAN
BEGIN:VEVENT
DTSTART:20140214T150000Z
DTEND:20140215T010000Z
X-MICROSOFT-CDO-ALLDAYEVENT:FALSE
SUMMARY:Champagne at Celtic Crossing
DESCRIPTION:We LOVE Valentine's Day\, at Celtic Crossing!  We will be serving Champagne and Cadbury Chocolates all day...have a Mimosa in the morning\, Champagne as the sun goes down.  And since it will be a bit chilly\, we will also be offering a little Irish Coffee.  Come in\, be cozy with your Sweetheart
X-ALT-DESC;FMTTYPE=text/html:We LOVE Valentine&#39\;s Day\, at Celtic Crossing! &nbsp\;We will be serving Champagne and Cadbury Chocolates all day...have a Mimosa in the morning\, Champagne as the sun goes down. &nbsp\;And since it will be a bit chilly\, we will also be offering a little Irish Coffee. &nbsp\;Come in\, be cozy with your Sweetheart
LOCATION:
UID:e.1659.1277
SEQUENCE:3
DTSTAMP:20260420T014749Z
URL:https://business.portsmouthchamber.org/events/details/champagne-at-celtic-crossing-02-14-2014-1277
END:VEVENT

END:VCALENDAR
