BEGIN:VCALENDAR
VERSION:2.0
PRODID:-//ChamberMaster//Event Calendar 2.0//EN
METHOD:PUBLISH
X-PUBLISHED-TTL:P3D
REFRESH-INTERVAL:P3D
CALSCALE:GREGORIAN
BEGIN:VEVENT
DTSTART:20141102T150000Z
DTEND:20141102T223000Z
X-MICROSOFT-CDO-ALLDAYEVENT:FALSE
SUMMARY:Charity Wedding Gown Sale and Expo
DESCRIPTION:We invite all brides and guests to browse through hundreds of new and lovingly worn designer and couture wedding gowns\, all at an incredible savings. Gowns range from $99 to $3\,900\, are available in all styles and in sizes 4-18. You will also meet some of the area's top wedding vendors\, and enter exciting giveaways - all while supporting a great cause.
X-ALT-DESC;FMTTYPE=text/html:We invite all brides and guests to browse through hundreds of new and lovingly worn designer and couture wedding gowns\, all at an incredible savings. Gowns range from $99 to $3\,900\, are available in all styles and in sizes 4-18. You will also meet some of the area&#39\;s top wedding vendors\, and enter exciting giveaways - all while supporting a great cause.
LOCATION:Sheraton Portsmouth 250 Market St\, Portsmouth\, NH 03801
UID:e.1659.3484
SEQUENCE:3
DTSTAMP:20260419T165451Z
URL:https://business.portsmouthchamber.org/events/details/charity-wedding-gown-sale-and-expo-11-02-2014-3484
END:VEVENT

END:VCALENDAR
