BEGIN:VCALENDAR
VERSION:2.0
PRODID:-//ChamberMaster//Event Calendar 2.0//EN
METHOD:PUBLISH
X-PUBLISHED-TTL:P3D
REFRESH-INTERVAL:P3D
CALSCALE:GREGORIAN
BEGIN:VEVENT
DTSTART:20170211T153000Z
DTEND:20170211T190000Z
X-MICROSOFT-CDO-ALLDAYEVENT:FALSE
SUMMARY:Children's Museum of New Hampshire invites you to Alice in Wonderland Tea Party
DESCRIPTION:Come celebrate Valentine's Day in the wonderful world of Lewis Carroll with our Alice in Wonderland Tea Party! Meet Alice and the Queen of Hearts\, decorate tasty Valentine treats\, do some festive crafts and enjoy some tea or apple juice all while being immersed in a magical Wonderland atmosphere. Fancy dress and whimsical attire is encouraged!\n\n\n\nThe cost of the program is $20 per adult/child pair (Members) and $25 per adult/child pair (Non-members). There is an additional charge of $8/$10 per additional child for Members and Non-members.
X-ALT-DESC;FMTTYPE=text/html:Come celebrate Valentine&rsquo\;s Day in the wonderful world of Lewis Carroll with our Alice in Wonderland Tea Party! Meet Alice and the Queen of Hearts\, decorate tasty Valentine treats\, do some festive crafts and enjoy some tea or apple juice all while being immersed in a magical Wonderland atmosphere. Fancy dress and whimsical attire is encouraged!<br />\n<br />\nThe cost of the program is $20 per adult/child pair (Members) and $25 per adult/child pair (Non-members). There is an additional charge of $8/$10 per additional child for Members and Non-members.
LOCATION:Children's Museum of New Hampshire 6 Washington Street Dover\, NH 03820
UID:e.1659.28277
SEQUENCE:3
DTSTAMP:20260421T164435Z
URL:https://business.portsmouthchamber.org/events/details/children-s-museum-of-new-hampshire-invites-you-to-alice-in-wonderland-tea-party-28277
END:VEVENT

END:VCALENDAR
