BEGIN:VCALENDAR
VERSION:2.0
PRODID:-//ChamberMaster//Event Calendar 2.0//EN
METHOD:PUBLISH
X-PUBLISHED-TTL:P3D
REFRESH-INTERVAL:P3D
CALSCALE:GREGORIAN
BEGIN:VEVENT
DTSTART:20170128T150000Z
DTEND:20170128T190000Z
X-MICROSOFT-CDO-ALLDAYEVENT:FALSE
SUMMARY:Children's Museum of New Hampshire's: BOOKS ALIVE!
DESCRIPTION:Our Books Alive program features several visits per year by beloved children's book characters. At each event\, there are stories read aloud\, literacy activities\, fun crafts and of course\, periodic appearances by the characters. Kids are welcome to share a hug\, handshake or high-five with each character and pose for photos.\n\n\n\nJanuary 28\, 2017\n\nPete the Cat\, that groovy feline who likes to sing his songs as he goes along\, will be visiting the Children's Museum of New Hampshire to greet young fans and help promote the love of reading! Books Alive seeks to make reading a regular family experience. Museum educators will be reading these fun and colorful books\, written by Eric Litwin and illustrated by James Dean\, throughout the day. A friendly costumed Pete the Cat will pop in and out to greet children\, exchange a hug or high-five and pose for photos. There will also be a variety of Pete-the-Cat-inspired literacy\, math and creative activities for all guests. Free with Museum admission.
X-ALT-DESC;FMTTYPE=text/html:Our Books Alive program features several visits per year by beloved children&#39\;s book characters. At each event\, there are stories read aloud\, literacy activities\, fun crafts and of course\, periodic appearances by the characters. Kids are welcome to share a hug\, handshake or high-five with each character and pose for photos.<br />\n<br />\n<em>January 28\, 2017</em><br />\n<strong>Pete the Cat\, </strong>that groovy feline who likes to sing his songs as he goes along\, will be visiting the Children&rsquo\;s Museum of New Hampshire to greet young fans and help promote the love of reading! Books Alive seeks to make reading a regular family experience. Museum educators will be reading these fun and colorful books\, written by Eric Litwin and illustrated by James Dean\, throughout the day. A friendly costumed Pete the Cat will pop in and out to greet children\, exchange a hug or high-five and pose for photos. There will also be a variety of Pete-the-Cat-inspired literacy\, math and creative activities for all guests. Free with Museum admission.<br />\n&nbsp\;
LOCATION:Children's Museum of New Hampshire 6 Washington Street Dover\, NH
UID:e.1659.28276
SEQUENCE:3
DTSTAMP:20260421T182812Z
URL:https://business.portsmouthchamber.org/events/details/children-s-museum-of-new-hampshire-s-books-alive-28276
END:VEVENT

END:VCALENDAR
