BEGIN:VCALENDAR
VERSION:2.0
PRODID:-//ChamberMaster//Event Calendar 2.0//EN
METHOD:PUBLISH
X-PUBLISHED-TTL:P3D
REFRESH-INTERVAL:P3D
CALSCALE:GREGORIAN
BEGIN:VEVENT
DTSTART:20170422T140000Z
DTEND:20170422T190000Z
X-MICROSOFT-CDO-ALLDAYEVENT:FALSE
SUMMARY:Children's Museum of New Hampshire's Earth Day Celebration
DESCRIPTION:On Saturday\, April 22\, 10am-3pm\, the Children' Museum of New Hampshire will be hopping with a variety of demonstrations\, activities and information as visitors get their hands dirty while learning about our Earth\, the environment\, our local ecosystem and much more at our Earth Day Celebration!\n\n\n\nAll Earth Day activities are included in regular paid admission and FREE for members!\n\n\n\nActivities will include:\n\n	10:30am-1pm: Planting marigolds with Wentworth Greenhouses\n	10am-Noon: Watch a Solar Bicycle demonstration with ReVision Energy\n	All Day: Energy saving upcycling STEAM Lab activity with D.F. Richard
X-ALT-DESC;FMTTYPE=text/html:On Saturday\, April 22\, 10am-3pm\, the Children&#39\; Museum of New Hampshire will be hopping with a variety of demonstrations\, activities and information as visitors get their hands dirty while learning about our Earth\, the environment\, our local ecosystem and much more at our Earth Day Celebration!<br />\n<br />\nAll Earth Day activities are included in regular paid admission and FREE for members!<br />\n<br />\nActivities will include:\n<ul>\n	<li>10:30am-1pm: Planting marigolds with Wentworth Greenhouses</li>\n	<li>10am-Noon: Watch a Solar Bicycle demonstration with ReVision Energy</li>\n	<li>All Day: Energy saving upcycling STEAM Lab activity with D.F. Richard</li>\n</ul>\n
LOCATION:Children's Museum of New Hampshire 6 Washington Street Dover\, NH
UID:e.1659.30307
SEQUENCE:3
DTSTAMP:20260421T132437Z
URL:https://business.portsmouthchamber.org/events/details/children-s-museum-of-new-hampshire-s-earth-day-celebration-30307
END:VEVENT

END:VCALENDAR
