BEGIN:VCALENDAR
VERSION:2.0
PRODID:-//ChamberMaster//Event Calendar 2.0//EN
METHOD:PUBLISH
X-PUBLISHED-TTL:P3D
REFRESH-INTERVAL:P3D
CALSCALE:GREGORIAN
BEGIN:VEVENT
DTSTART:20161105T210000Z
DTEND:20161105T230000Z
X-MICROSOFT-CDO-ALLDAYEVENT:FALSE
SUMMARY:Children?s Museum of New Hampshire's Pizzafest and Auction
DESCRIPTION:Who doesn't love pizza!? Tickets for this all-you-can-eat pizza-tasting extravaganza on Saturday\, November 5 are on sale starting October 1st\, and you can bid on items in our online auction starting Saturday\, October 29\, 9am through Sunday\, November 6\, 8pm. There will be several packages and items raffled off during PizzaFest as well.. PizzaFest is sponsored by D.F. Richard.
X-ALT-DESC;FMTTYPE=text/html:Who doesn&rsquo\;t love pizza!? Tickets for this all-you-can-eat pizza-tasting extravaganza on Saturday\, November 5 are on sale starting October 1st\, and you can bid on items in our online auction starting Saturday\, October 29\, 9am through Sunday\, November 6\, 8pm. There will be several packages and items raffled off during PizzaFest as well.. PizzaFest is sponsored by D.F. Richard.
LOCATION:Children's Museum of New Hampshire 6 Washington Street Dover\, NH
UID:e.1659.27619
SEQUENCE:3
DTSTAMP:20260421T213412Z
URL:https://business.portsmouthchamber.org/events/details/children-s-museum-of-new-hampshire-s-pizzafest-and-auction-27619
END:VEVENT

END:VCALENDAR
