BEGIN:VCALENDAR
VERSION:2.0
PRODID:-//ChamberMaster//Event Calendar 2.0//EN
METHOD:PUBLISH
X-PUBLISHED-TTL:P3D
REFRESH-INTERVAL:P3D
CALSCALE:GREGORIAN
BEGIN:VEVENT
DTSTART:20170112T210000Z
DTEND:20170112T230000Z
X-MICROSOFT-CDO-ALLDAYEVENT:FALSE
SUMMARY:Children's Museum's Gallery 6 Art Exhibition Opening: Unconventional Materials
DESCRIPTION:Where there is an idea\, there is a way to express it. Where there is a material\, there is a way to turn it into art. In the Children's Museum of NH's Gallery 6 winter exhibition\, the museum challenges artists to transform unconventional materials into something beautiful\, thought-provoking or just plain fun! Artists use their materials in a way that transcends their original purpose. The aim of this exhibition is to not only show materials that are unconventional\, but also to alter the way people think about everyday objects. The participating artists are: Barbara Albert\, Lin Albertson-Thorpe\, Taintor Child\, Eve Corey\, Elizabeth Doherty\, Caryn Duncan\, Danielle Festa\, Marcia Hansen\, Joe Kennedy\, Students from Mind's Eye Studio\, Nancy Morgan\, Michal Smiglowski and Beth Wittenberg. Museum admission is free and open to all during the opening\, from 4-6pm. Also opening that night will be the new Thinkering Lab exhibit space.
X-ALT-DESC;FMTTYPE=text/html:Where there is an idea\, there is a way to express it. Where there is a material\, there is a way to turn it into art. In the Children&rsquo\;s Museum of NH&rsquo\;s Gallery 6 winter exhibition\, the museum challenges artists to transform unconventional materials into something beautiful\, thought-provoking or just plain fun! Artists use their materials in a way that transcends their original purpose. The aim of this exhibition is to not only show materials that are unconventional\, but also to alter the way people think about everyday objects. The participating artists are: Barbara Albert\, Lin Albertson-Thorpe\, Taintor Child\, Eve Corey\, Elizabeth Doherty\, Caryn Duncan\, Danielle Festa\, Marcia Hansen\, Joe Kennedy\, Students from Mind&rsquo\;s Eye Studio\, Nancy Morgan\, Michal Smiglowski and Beth Wittenberg. Museum admission is free and open to all during the opening\, from 4-6pm. Also opening that night will be the new Thinkering Lab exhibit space.
LOCATION:Children's Museum of New Hampshire 6 Washington Street Dover\, NH
UID:e.1659.28279
SEQUENCE:3
DTSTAMP:20260421T182418Z
URL:https://business.portsmouthchamber.org/events/details/children-s-museum-s-gallery-6-art-exhibition-opening-unconventional-materials-28279
END:VEVENT

END:VCALENDAR
