BEGIN:VCALENDAR
VERSION:2.0
PRODID:-//ChamberMaster//Event Calendar 2.0//EN
METHOD:PUBLISH
X-PUBLISHED-TTL:P3D
REFRESH-INTERVAL:P3D
CALSCALE:GREGORIAN
BEGIN:VEVENT
DTSTART:20131023T120000Z
DTEND:20131023T140000Z
X-MICROSOFT-CDO-ALLDAYEVENT:FALSE
SUMMARY:Citizens Bank Business Development Seminar: Planning a Successful Event
DESCRIPTION:Learn how to plan a successful business event of any size with the highly experienced women from Gracious Events Management/JLH Ventures!
X-ALT-DESC;FMTTYPE=text/html:Learn how to plan a successful business event of any size with the highly experienced women from Gracious Events Management/JLH Ventures!
LOCATION:Sheraton Harborside Hotel 250 Market Street Portsmouth\, NH
UID:e.1659.590
SEQUENCE:3
DTSTAMP:20260420T071210Z
URL:https://business.portsmouthchamber.org/events/details/citizens-bank-business-development-seminar-planning-a-successful-event-10-23-2013-590
END:VEVENT

END:VCALENDAR
