BEGIN:VCALENDAR
VERSION:2.0
PRODID:-//ChamberMaster//Event Calendar 2.0//EN
METHOD:PUBLISH
X-PUBLISHED-TTL:P3D
REFRESH-INTERVAL:P3D
CALSCALE:GREGORIAN
BEGIN:VEVENT
DTSTART:20130918T193000Z
DTEND:20130918T213000Z
X-MICROSOFT-CDO-ALLDAYEVENT:FALSE
SUMMARY:Citizens Bank Business Development Seminar: Social Media Roundtable 2.0
DESCRIPTION:Join us for the next installment of our Business Development Seminar\, Social Media Roundtable 2.0. We will have local experts touch on the following subjects: Facebook\, Twitter\, Pinterest/Instagram\, LinkedIn\, and Email Marketing. This event is free to members. Register today before it fills! There will be a cash bar and free parking is available in the lot across the street from the Sheraton.
X-ALT-DESC;FMTTYPE=text/html:Join us for the next installment of our Business Development Seminar\, Social Media Roundtable 2.0. We will have local experts touch on the following subjects: Facebook\, Twitter\, Pinterest/Instagram\, LinkedIn\, and Email Marketing. This event is free to members. Register today before it fills! There will be a cash bar and free parking is available in the lot across the street from the Sheraton.
LOCATION:Sheraton Harborside Hotel 250 Market Street Portsmouth\, NH 03801
UID:e.1659.543
SEQUENCE:3
DTSTAMP:20260420T085116Z
URL:https://business.portsmouthchamber.org/events/details/citizens-bank-business-development-seminar-social-media-roundtable-2-0-09-18-2013-543
END:VEVENT

END:VCALENDAR
