BEGIN:VCALENDAR
VERSION:2.0
PRODID:-//ChamberMaster//Event Calendar 2.0//EN
METHOD:PUBLISH
X-PUBLISHED-TTL:P3D
REFRESH-INTERVAL:P3D
CALSCALE:GREGORIAN
BEGIN:VEVENT
DTSTART:20140411T120000Z
DTEND:20140411T140000Z
X-MICROSOFT-CDO-ALLDAYEVENT:FALSE
SUMMARY:Citizens Bank Business Development Seminar: Taking Social Media to the Next Level
DESCRIPTION:Join us for this amazing seminar on taking social media to the next level in your business. We have three local social media experts who will focus on Facebook\, Twitter and Video Marketing. Nicole Mitsakis of JLH Ventures will be speaking about Facebook\, Cail Desrochers of PixelMEDIA will be speaking about Twitter and Dan Freund of PixelMEDIA and founding board member of PPMTV will be speaking about video marketing.
X-ALT-DESC;FMTTYPE=text/html:<span style="font-family:arial\;"><span style="font-size:12px\;">Join us for this amazing seminar on taking social media to the next level in your business. We have three local social media experts who will focus on Facebook\, Twitter and Video Marketing. Nicole Mitsakis of JLH Ventures will be speaking about Facebook\,&nbsp\;<span style="color:black\;">Cail</span><span style="color:black\;"> Desrochers of PixelMEDIA&nbsp\;will be speaking about Twitter and&nbsp\;Dan Freund of PixelMEDIA and founding board member of PPMTV will be speaking about video marketing.&nbsp\;</span></span></span>
LOCATION:Sheraton Harborside Hotel 250 Market Street Portsmouth\, NH #WarmWelcome
UID:e.1659.1284
SEQUENCE:3
DTSTAMP:20260419T231638Z
URL:https://business.portsmouthchamber.org/events/details/citizens-bank-business-development-seminar-taking-social-media-to-the-next-level-04-11-2014-1284
END:VEVENT

END:VCALENDAR
