BEGIN:VCALENDAR
VERSION:2.0
PRODID:-//ChamberMaster//Event Calendar 2.0//EN
METHOD:PUBLISH
X-PUBLISHED-TTL:P3D
REFRESH-INTERVAL:P3D
CALSCALE:GREGORIAN
BEGIN:VEVENT
DTSTART:20140212T170000Z
DTEND:20140212T180000Z
X-MICROSOFT-CDO-ALLDAYEVENT:FALSE
SUMMARY:Citizens Bank Power Biz Hour: Business Plan Magic
DESCRIPTION:An opportunity to discuss the necessary actions to be taken as a business owner.\n\nIt is our goal to guide our members in the understanding and interrelationship of each component of a business plan\, thus enabling them to develop good business practices. Your business plan will serve as guide throughout the life of your business and provide you with documentation for lenders and investors. Thank you to our series sponsor\, Citizens Bank and thank you to our lunch sponsor\, Portsmouth Gas Light!
X-ALT-DESC;FMTTYPE=text/html:An opportunity to discuss the necessary actions to be taken as a business owner.<br />\nIt is our goal to guide our members in the understanding and interrelationship of each component of a business plan\, thus enabling them to develop good business practices. Your business plan will serve as guide throughout the life of your business and provide you with documentation for lenders and investors. Thank you to our series sponsor\, Citizens Bank and thank you to our lunch sponsor\, Portsmouth Gas Light!<br />\n<br />\n
LOCATION:Greater Portsmouth Chamber of Commerce
UID:e.1659.1017
SEQUENCE:3
DTSTAMP:20260420T015216Z
URL:https://business.portsmouthchamber.org/events/details/citizens-bank-power-biz-hour-business-plan-magic-02-12-2014-1017
END:VEVENT

END:VCALENDAR
