BEGIN:VCALENDAR
VERSION:2.0
PRODID:-//ChamberMaster//Event Calendar 2.0//EN
METHOD:PUBLISH
X-PUBLISHED-TTL:P3D
REFRESH-INTERVAL:P3D
CALSCALE:GREGORIAN
BEGIN:VEVENT
DTSTART:20140312T160000Z
DTEND:20140312T170000Z
X-MICROSOFT-CDO-ALLDAYEVENT:FALSE
SUMMARY:Citizens Bank Power Biz Hour: Marketing Magic
DESCRIPTION:This is the second installment of the series however if you missed the first do not fret! In this hour we will hear from the wonderful and talented Darci Knowles of DARCI Creative.\n\n\n\nThank you to our series sponsor\, Citizens Bank!\n\n\n\nThank you to our lunch sponsor\, Buffalo Wild Wings!
X-ALT-DESC;FMTTYPE=text/html:This is the second installment of the series however if you missed the first do not fret! In this hour we will hear from the wonderful and talented Darci Knowles of DARCI Creative.<br />\n<br />\n<em>Thank you to our series sponsor\, Citizens Bank!<br />\n<br />\nThank you to our lunch sponsor\, Buffalo Wild Wings!</em>
LOCATION:The Greater Portsmouth Chamber of Commerce 500 Market Street Portsmouth\, NH
UID:e.1659.1281
SEQUENCE:3
DTSTAMP:20260420T002623Z
URL:https://business.portsmouthchamber.org/events/details/citizens-bank-power-biz-hour-marketing-magic-03-12-2014-1281
END:VEVENT

END:VCALENDAR
