BEGIN:VCALENDAR
VERSION:2.0
PRODID:-//ChamberMaster//Event Calendar 2.0//EN
METHOD:PUBLISH
X-PUBLISHED-TTL:P3D
REFRESH-INTERVAL:P3D
CALSCALE:GREGORIAN
BEGIN:VEVENT
DTSTART:20161116T223000Z
DTEND:20161117T000000Z
X-MICROSOFT-CDO-ALLDAYEVENT:FALSE
SUMMARY:CJ Physical Therapy and Wellness Open House and Ribbon Cutting
DESCRIPTION:"CJ Physical Therapy and Wellness Stretches Into Their Own Brand New Space!" \n\nJoin Us for Official Ribbon Cutting\, Celebrate with The Portsmouth Chamber & Friends\n\n"We welcome the members of the Portsmouth Chamber of Commerce to join us in celebrating the grand opening of our new office in downtown Portsmouth." CJ Physical Therapy and Wellness opened its doors here in Portsmouth 2 years ago and is thrilled for the opportunity to now be able to expand its programs on the Seacoast that help people stay active\, healthy and mobile - naturally - without medical tests or procedures.
X-ALT-DESC;FMTTYPE=text/html:<b style="font-family: Calibri\, Arial\, Helvetica\, sans-serif\; font-size: 16px\; background-color: rgb(255\, 255\, 255)\;">&quot\;CJ Physical Therapy and Wellness Stretches Into Their Own Brand New Space!&quot\;&nbsp\;</b><br style="font-family: Calibri\, Arial\, Helvetica\, sans-serif\; font-size: 16px\; background-color: rgb(255\, 255\, 255)\;" />\n<i style="font-family: Calibri\, Arial\, Helvetica\, sans-serif\; font-size: 16px\; background-color: rgb(255\, 255\, 255)\; font-weight: bold\;">Join Us for Official Ribbon Cutting\, Celebrate with The Portsmouth Chamber &amp\; Friends</i><br />\n<span style="font-family: Calibri\, Arial\, Helvetica\, sans-serif\; font-size: 16px\; background-color: rgb(255\, 255\, 255)\;">&quot\;We welcome the members of the Portsmouth Chamber of Commerce to join us in celebrating the grand opening of our new office in downtown Portsmouth.&quot\; CJ Physical Therapy and Wellness opened its doors here in Portsmouth 2 years ago and is thrilled for the opportunity to now be able to expand its programs on the Seacoast that help people stay active\, healthy and mobile - naturally - without medical tests or procedures.</span>
LOCATION:53 B Green St. Portsmouth\, NH 03801
UID:e.1659.27630
SEQUENCE:3
DTSTAMP:20260421T212759Z
URL:https://business.portsmouthchamber.org/events/details/cj-physical-therapy-and-wellness-open-house-and-ribbon-cutting-27630
END:VEVENT

END:VCALENDAR
