BEGIN:VCALENDAR
VERSION:2.0
PRODID:-//ChamberMaster//Event Calendar 2.0//EN
METHOD:PUBLISH
X-PUBLISHED-TTL:P3D
REFRESH-INTERVAL:P3D
CALSCALE:GREGORIAN
BEGIN:VEVENT
DTSTART:20260307T150000Z
DTEND:20260307T163000Z
X-MICROSOFT-CDO-ALLDAYEVENT:FALSE
SUMMARY:CLASS: 18th-Century Quill Writing Workshop (Beginner)
DESCRIPTION:18th-Century Quill Writing Workshop (Beginner) Saturday\, March 7\, 2026 10 AM 11:30 AM Explore the art of 18th-century handwriting in this hands-on workshop at Strawbery Banke. Participants will learn traditional quill-writing techniques and practice the elegant scripts used by the Founding Generation. Guided by Museum instructors\, you'll cut your own quill pen to use during class and take home. You'll also work with historically accurate inks to create a finished piece of handwritten penwork\, beautifully framed and ready to keep or give as a gift. This workshop is suitable for ages 16 and older and limited to 12 participants. All materials are included. Members $35\; Non-Members $45.
X-ALT-DESC;FMTTYPE=text/html:18th-Century Quill Writing Workshop (Beginner) Saturday\, March 7\, 2026 10 AM&ndash\;11:30 AM Explore the art of 18th-century handwriting in this hands-on workshop at Strawbery Banke. Participants will learn traditional quill-writing techniques and practice the elegant scripts used by the Founding Generation. Guided by Museum instructors\, you&rsquo\;ll cut your own quill pen to use during class and take home. You&rsquo\;ll also work with historically accurate inks to create a finished piece of handwritten penwork\, beautifully framed and ready to keep or give as a gift. This workshop is suitable for ages 16 and older and limited to 12 participants. All materials are included. Members $35\; Non-Members $45.
LOCATION:Strawbery Banke Museum 14 Hancock Street\, Portsmouth\, NH
UID:e.1659.87072
SEQUENCE:3
DTSTAMP:20260423T065700Z
URL:https://business.portsmouthchamber.org/events/details/class-18th-century-quill-writing-workshop-beginner-87072
END:VEVENT

END:VCALENDAR
