BEGIN:VCALENDAR
VERSION:2.0
PRODID:-//ChamberMaster//Event Calendar 2.0//EN
METHOD:PUBLISH
X-PUBLISHED-TTL:P3D
REFRESH-INTERVAL:P3D
CALSCALE:GREGORIAN
BEGIN:VEVENT
DTSTART:20260314T140000Z
DTEND:20260314T180000Z
X-MICROSOFT-CDO-ALLDAYEVENT:FALSE
SUMMARY:CLASS: English Paper Piecing Quilting Workshop
DESCRIPTION:English Paper Piecing Quilting Workshop Saturday\, March 14\, 2026 10 AM-2 PM Learn the basics of English Paper Piecing in this beginner workshop at Strawbery Banke. Participants will be guided by Museum instructors as they create a classic Grandmother's Flower Garden motif using fabric\, paper templates\, and simple hand stitching. No prior sewing or quilting experience is required. Step by step\, you'll practice foundational techniques in a relaxed\, hands-on environment. By the end of the session\, you'll have a completed floral design ready to stitch into a small bag or other personal project. This workshop is suitable for ages 16 and older and limited to 8 participants. All materials are provided\, though you are welcome to bring your own fabric scraps. Members $55\; Nonmembers $65.
X-ALT-DESC;FMTTYPE=text/html:English Paper Piecing Quilting Workshop Saturday\, March 14\, 2026 10 AM-2 PM Learn the basics of English Paper Piecing in this beginner workshop at Strawbery Banke. Participants will be guided by Museum instructors as they create a classic Grandmother&rsquo\;s Flower Garden motif using fabric\, paper templates\, and simple hand stitching. No prior sewing or quilting experience is required. Step by step\, you&rsquo\;ll practice foundational techniques in a relaxed\, hands-on environment. By the end of the session\, you&rsquo\;ll have a completed floral design ready to stitch into a small bag or other personal project. This workshop is suitable for ages 16 and older and limited to 8 participants. All materials are provided\, though you are welcome to bring your own fabric scraps. Members $55\; Nonmembers $65.
LOCATION:Strawbery Banke Museum 14 Hancock Street\, Portsmouth\, NH
UID:e.1659.87073
SEQUENCE:3
DTSTAMP:20260423T070317Z
URL:https://business.portsmouthchamber.org/events/details/class-english-paper-piecing-quilting-workshop-87073
END:VEVENT

END:VCALENDAR
