BEGIN:VCALENDAR
VERSION:2.0
PRODID:-//ChamberMaster//Event Calendar 2.0//EN
METHOD:PUBLISH
X-PUBLISHED-TTL:P3D
REFRESH-INTERVAL:P3D
CALSCALE:GREGORIAN
BEGIN:VEVENT
DTSTART:20260314T230000Z
DTEND:20260315T030000Z
X-MICROSOFT-CDO-ALLDAYEVENT:FALSE
SUMMARY:Comedy Night at the Ballroom
DESCRIPTION:Get ready for a night of laughs and unexpected surprises at Comedy Night at the Rockingham Ballroom.\n\n \n\nTicket Special: Buy 3 tickets online in advance and get the fourth ticket free!\n\nResidents of Newmarket & Newfields Special: Buy 1 ticket and get a second ticket free!\n\n \n\nThis month features a powerhouse lineup led by Mike Koutrobis\, a New Hampshire's Funniest Comedian winner and regular headliner at top clubs across New England and beyond\; Ryan Gartley\, a Boston comedy mainstay who's performed nationwide and opened for legends like Jeff Dunham and Steven Wright\; and Jim Leach\, a veteran comedy magician who's appeared with Penn & Teller and entertained audiences from Las Vegas to military bases around the world.\n\nDoors open at 7:00 pm with Live Music | Stand-Up starts at 8:00 pm\n\nYou can bring your beverage of choice (BYOB) and we provide a healthy light menu to snack on\, for purchase. Seltzers\, sodas\, and mixers also available. (No "bar" tab.)  We have both cafe and lounge seating and a game room.\n\nLooking for a venue for your next event? The Rockingham Ballroom is available for Private Parties\, Events\, Classes\, and Weddings. Our event center is 8\,500 sq. feet. The 4000 square foot floating wood floor is the only such dance floor in New England. Located in Newmarket\, NH and only 15 minutes from Portsmouth\, Exeter\, or Durham. \n\nFor more information on booking events the ballroom\, please email info@rockinballroom.club
X-ALT-DESC;FMTTYPE=text/html:<p>Get ready for a night of laughs and unexpected surprises at Comedy Night at the Rockingham Ballroom.</p>\n\n<p>&nbsp\;</p>\n\n<p><strong>Ticket Special: Buy 3 tickets online in advance and get the fourth ticket free!</strong></p>\n\n<p><strong>Residents of Newmarket &amp\; Newfields Special: Buy 1 ticket and get a second ticket free!</strong></p>\n\n<p>&nbsp\;</p>\n\n<p>This month features a powerhouse lineup led by&nbsp\;<a href="https://www.mikekcomic.com/?fbclid=IwY2xjawP7jEVleHRuA2FlbQIxMABicmlkETFxb0ZYVXVxNUtEZzRIdjZic3J0YwZhcHBfaWQQMjIyMDM5MTc4ODIwMDg5MgABHvgo6UW2wMIOIki_rGRxVFOHB49D4e1rwMNl0zobyJylH7RrVC910XTNd9jp_aem_W-GBQe8NrP9Oidj01TfumA" rel="noopener noreferrer nofollow" style="box-sizing: border-box\; cursor: pointer\; color: rgb(51\, 116\, 255)\;" target="_self">Mike Koutrobis</a>\, a New Hampshire&rsquo\;s Funniest Comedian winner and regular headliner at top clubs across New England and beyond\;&nbsp\;<strong><u>Ryan Gartley</u></strong>\, a Boston comedy mainstay who&rsquo\;s performed nationwide and opened for legends like Jeff Dunham and Steven Wright\; and&nbsp\;<a href="https://www.facebook.com/jim.leach.9/" rel="noopener noreferrer nofollow" style="box-sizing: border-box\; cursor: pointer\; color: rgb(51\, 116\, 255)\;" target="_self">Jim Leach</a>\, a veteran comedy magician who&rsquo\;s appeared with Penn &amp\; Teller and entertained audiences from Las Vegas to military bases around the world.</p>\n\n<p>Doors open at 7:00 pm with Live Music | Stand-Up starts at 8:00 pm</p>\n\n<p>You can bring your beverage of choice (BYOB) and we provide a healthy light menu to snack on\, for purchase.&nbsp\;Seltzers\, sodas\, and mixers also available.&nbsp\;(No &ldquo\;bar&rdquo\; tab.)&nbsp\;&nbsp\;We have both cafe and lounge seating and a game room.</p>\n\n<p>Looking for a venue for your next event?&nbsp\;The Rockingham Ballroom is available for Private Parties\, Events\, Classes\, and Weddings.&nbsp\;Our event center is 8\,500 sq. feet.&nbsp\;The 4000 square foot floating wood floor is the only such dance floor in New England. Located in Newmarket\, NH&nbsp\;and only 15 minutes from Portsmouth\, Exeter\, or Durham.&nbsp\;</p>\n\n<p>For more information on booking events the ballroom\, please email&nbsp\;<a href="mailto:info@rockinballroom.club" rel="noopener noreferrer nofollow" style="box-sizing: border-box\; cursor: pointer\; color: rgb(51\, 116\, 255)\;" target="_blank">info@rockinballroom.club</a></p>\n
LOCATION:Rockingham Ballroom 22 Ash Swamp Road Newmarket\, NH
UID:e.1659.89266
SEQUENCE:3
DTSTAMP:20260423T053202Z
URL:https://business.portsmouthchamber.org/events/details/comedy-night-at-the-ballroom-03-14-2026-89266
END:VEVENT

END:VCALENDAR
