BEGIN:VCALENDAR
VERSION:2.0
PRODID:-//ChamberMaster//Event Calendar 2.0//EN
METHOD:PUBLISH
X-PUBLISHED-TTL:P3D
REFRESH-INTERVAL:P3D
CALSCALE:GREGORIAN
BEGIN:VEVENT
DTSTART:20131012T140000Z
DTEND:20131012T160000Z
X-MICROSOFT-CDO-ALLDAYEVENT:FALSE
SUMMARY:Community Childcare Center of Portsmouth/Prescott Park Arts Festival
DESCRIPTION:The Portsmouth Community Road Race Series (PCRRS) underwritten by Portsmouth Regional Hospital\, is a succession of road races aimed at the cultivation of the health and well-being of the Greater Portsmouth Community.\n\n\n\nThe goal of the series is to attract individuals\, families\, and groups who enjoy participating in community events (not just competitive races).
X-ALT-DESC;FMTTYPE=text/html:<span style="font-family: Georgia\; font-size: small\;">The Portsmouth Community Road Race Series (PCRRS)&nbsp\;underwritten&nbsp\;by&nbsp\;Portsmouth&nbsp\;Regional&nbsp\;Hospital\,&nbsp\;is a succession of road races aimed at the cultivation of the health and well-being of the Greater Portsmouth Community.</span><br style="font-family: Georgia\; font-size: small\;" />\n<br style="font-family: Georgia\; font-size: small\;" />\n<span style="font-family: Georgia\; font-size: small\;">The goal of the series is to attract individuals\, families\, and groups who enjoy participating in community events (not just competitive races).</span>
LOCATION:
UID:e.1659.520
SEQUENCE:3
DTSTAMP:20260420T074321Z
URL:https://business.portsmouthchamber.org/events/details/community-childcare-center-of-portsmouth-prescott-park-arts-festival-10-12-2013-520
END:VEVENT

END:VCALENDAR
