BEGIN:VCALENDAR
VERSION:2.0
PRODID:-//ChamberMaster//Event Calendar 2.0//EN
METHOD:PUBLISH
X-PUBLISHED-TTL:P3D
REFRESH-INTERVAL:P3D
CALSCALE:GREGORIAN
BEGIN:VEVENT
DTSTART:20161210T010000Z
DTEND:20161210T045500Z
X-MICROSOFT-CDO-ALLDAYEVENT:FALSE
SUMMARY:Community Toolbox Presents the 1st Annual Holiday Disco Ball
DESCRIPTION:First Annual Holiday Disco Ball\, with the incomparable Motor Booty Affair\, the ultimate disco tribute band!\n\n\n\nBreak out your platform shoes\, put on your best holiday polyester\, and get on down to the 3SArts Space in Portsmouth\, New Hampshire. Prepare to have a funky good time with friends and family. Cash bar\, silent & live auction\, and prizes for best costumes. Come enjoy an evening of great music and dancing while supporting the Seacoast and Community Toolbox!\n\n\n\nThe mission is clear   to bring volunteers and the community together to provide small\, critical home repairs to our neighbors in need. The repairs are focused on the basic dignities of safety\, health and accessibility\, because we believe everyone deserves to live in a safe and healthy home.
X-ALT-DESC;FMTTYPE=text/html:First Annual Holiday Disco Ball\, with the incomparable Motor Booty Affair\, the ultimate disco tribute band!<br />\n<br />\nBreak out your platform shoes\, put on your best holiday polyester\, and get on down to the 3SArts Space in Portsmouth\, New Hampshire. Prepare to have a funky good time with friends and family. Cash bar\, silent &amp\; live auction\, and prizes for best costumes. Come enjoy an evening of great music and dancing while supporting the Seacoast and Community Toolbox!<br />\n<br />\nThe mission is clear &ndash\; to bring volunteers and the community together to provide small\, critical home repairs to our neighbors in need. The repairs are focused on the basic dignities of safety\, health and accessibility\, because we believe everyone deserves to live in a safe and healthy home.<br />\n<br />\n&nbsp\;
LOCATION:3S Artspace 319 Vaughan Street\, Portsmouth
UID:e.1659.28157
SEQUENCE:3
DTSTAMP:20260421T193108Z
URL:https://business.portsmouthchamber.org/events/details/community-toolbox-presents-the-1st-annual-holiday-disco-ball-28157
END:VEVENT

END:VCALENDAR
