BEGIN:VCALENDAR
VERSION:2.0
PRODID:-//ChamberMaster//Event Calendar 2.0//EN
METHOD:PUBLISH
X-PUBLISHED-TTL:P3D
REFRESH-INTERVAL:P3D
CALSCALE:GREGORIAN
BEGIN:VEVENT
DTSTART:20260512T220000Z
DTEND:20260512T230000Z
X-MICROSOFT-CDO-ALLDAYEVENT:FALSE
SUMMARY:Concert: Chamber Music Spring Concert
DESCRIPTION:A Combined PMAC Concert Featuring: New Horizons Chamber Strings\, Flute Choir\, and Saxophone Ensemble. Tickets: Suggested donation: $5 at the door. Location: Haas Family Gallery at PMAC Open to the public   all are welcome!
X-ALT-DESC;FMTTYPE=text/html:A Combined PMAC Concert Featuring: New Horizons Chamber Strings\, Flute Choir\, and Saxophone Ensemble. Tickets: Suggested donation: $5 at the door. Location: Haas Family Gallery at PMAC Open to the public &ndash\; all are welcome!
LOCATION:Portsmouth Music and Arts Center (PMAC)\, 973 Islington Street\, Portsmouth\, NH
UID:e.1659.89316
SEQUENCE:3
DTSTAMP:20260421T130457Z
URL:https://business.portsmouthchamber.org/events/details/concert-chamber-music-spring-concert-89316
END:VEVENT

END:VCALENDAR
