BEGIN:VCALENDAR
VERSION:2.0
PRODID:-//ChamberMaster//Event Calendar 2.0//EN
METHOD:PUBLISH
X-PUBLISHED-TTL:P3D
REFRESH-INTERVAL:P3D
CALSCALE:GREGORIAN
BEGIN:VEVENT
DTSTART:20260508T230000Z
DTEND:20260509T000000Z
X-MICROSOFT-CDO-ALLDAYEVENT:FALSE
SUMMARY:Concert: New Horizons Band
DESCRIPTION:A Combined Concert Featuring: New Horizons Beginner Band and New Horizons Band. ?? Suggested donation: $5 at the door ?? Location: Portsmouth Middle School ?? Open to the public   all are welcome!
X-ALT-DESC;FMTTYPE=text/html:A Combined Concert Featuring: New Horizons Beginner Band and New Horizons Band. ?? Suggested donation: $5 at the door ?? Location: Portsmouth Middle School ?? Open to the public &ndash\; all are welcome!
LOCATION:Portsmouth Middle School\, 155 Parrot Ave\, Portsmouth\, NH
UID:e.1659.89318
SEQUENCE:3
DTSTAMP:20260421T130057Z
URL:https://business.portsmouthchamber.org/events/details/concert-new-horizons-band-89318
END:VEVENT

END:VCALENDAR
