BEGIN:VCALENDAR
VERSION:2.0
PRODID:-//ChamberMaster//Event Calendar 2.0//EN
METHOD:PUBLISH
X-PUBLISHED-TTL:P3D
REFRESH-INTERVAL:P3D
CALSCALE:GREGORIAN
BEGIN:VEVENT
DTSTART:20260508T210000Z
DTEND:20260508T220000Z
X-MICROSOFT-CDO-ALLDAYEVENT:FALSE
SUMMARY:Concert: New Horizons Chorus & String Orchestra
DESCRIPTION:A PMAC Concert Featuring: New Horizons Chorus and New Horizons String Orchestra. ?? Suggested donation: $5 at the door ?? Location: Portsmouth Middle School ?? Open to the public   all are welcome!
X-ALT-DESC;FMTTYPE=text/html:A PMAC Concert Featuring: New Horizons Chorus and New Horizons String Orchestra. ?? Suggested donation: $5 at the door ?? Location: Portsmouth Middle School ?? Open to the public &ndash\; all are welcome!
LOCATION:Portsmouth Middle School\, 155 Parrot Ave\, Portsmouth\, NH
UID:e.1659.89317
SEQUENCE:3
DTSTAMP:20260421T125918Z
URL:https://business.portsmouthchamber.org/events/details/concert-new-horizons-chorus-string-orchestra-89317
END:VEVENT

END:VCALENDAR
