BEGIN:VCALENDAR
VERSION:2.0
PRODID:-//ChamberMaster//Event Calendar 2.0//EN
METHOD:PUBLISH
X-PUBLISHED-TTL:P3D
REFRESH-INTERVAL:P3D
CALSCALE:GREGORIAN
BEGIN:VEVENT
DTSTART:20140823T143000Z
DTEND:20140823T161500Z
X-MICROSOFT-CDO-ALLDAYEVENT:FALSE
SUMMARY:Cool Weather Planting
DESCRIPTION:Get your hands dirty as you sample our many herbs & vegetables growing in our museum gardens. Find out what is ready to harvest and what you can grow in the cooler months of autumn. Check out some unique containers you can use to grow produce!
X-ALT-DESC;FMTTYPE=text/html:Get your hands dirty as you sample our many herbs &amp\; vegetables growing in our museum gardens. Find out what is ready to harvest and what you can grow in the cooler months of autumn. Check out some unique containers you can use to grow produce!
LOCATION:The Children's Museum of New Hampshire
UID:e.1659.2197
SEQUENCE:3
DTSTAMP:20260419T174031Z
URL:https://business.portsmouthchamber.org/events/details/cool-weather-planting-08-23-2014-2197
END:VEVENT

END:VCALENDAR
