BEGIN:VCALENDAR
VERSION:2.0
PRODID:-//ChamberMaster//Event Calendar 2.0//EN
METHOD:PUBLISH
X-PUBLISHED-TTL:P3D
REFRESH-INTERVAL:P3D
CALSCALE:GREGORIAN
BEGIN:VEVENT
DTSTART:20160117T020000Z
DTEND:20160117T040000Z
X-MICROSOFT-CDO-ALLDAYEVENT:FALSE
SUMMARY:Cosy Sheridan at Book & Bar
DESCRIPTION:Live music!
X-ALT-DESC;FMTTYPE=text/html:Live music!
LOCATION:Book & Bar 40 Pleasant Street\, Portsmouth
UID:e.1659.13394
SEQUENCE:3
DTSTAMP:20260420T115850Z
URL:https://business.portsmouthchamber.org/events/details/cosy-sheridan-at-book-bar-01-16-2016-13394
END:VEVENT

END:VCALENDAR
