BEGIN:VCALENDAR
VERSION:2.0
PRODID:-//ChamberMaster//Event Calendar 2.0//EN
METHOD:PUBLISH
X-PUBLISHED-TTL:P3D
REFRESH-INTERVAL:P3D
CALSCALE:GREGORIAN
BEGIN:VEVENT
DTSTART:20141011T000000Z
DTEND:20141011T013000Z
X-MICROSOFT-CDO-ALLDAYEVENT:FALSE
SUMMARY:DARWiN'S WAiTiNG ROOM
DESCRIPTION:DARWiN'S WAiTiNG ROOM is opening The Players' Ring 2014-2015 season with brand new material written by G. Matthew Gaskell (The Sharp Dressed Men trilogy\, Background Check). Actors Danica Carlson\, Zach Cranor\, Liz Locke\, Grady O'Neil\, Bretton Reis\, Dominique Salvacion\, and Michael Towle\, along with some cameos from Gaskell promise an unforgettable night. Fog of War\, a fast past sketch with World War II pilots written by Eric Doucet\, will return to the Rings stage for the first time since 2008. Hapless everyman Jeff Simpson returns in an all new adventure\; audiences have previously seen his job interview/dance audition and a failed attempt at pitching his script to a Hollywood producer. Other sketches include the aftermath the Wet River Gang's failed bank robber\, a perfect girl's night out\, and an inside look at what makes a perfect relationship work. Each night of the show will have 50/50 raffles\, concessions and lots of other fun stuff!
X-ALT-DESC;FMTTYPE=text/html:DARWiN&#39\;S<span style="line-height: 20.7999992370605px\;">&nbsp\;</span>WAiTiNG<span style="line-height: 20.7999992370605px\;">&nbsp\;ROOM is opening The Players&#39\; Ring 2014-2015 season with brand new material written by G. Matthew&nbsp\;</span>Gaskell<span style="line-height: 20.7999992370605px\;">&nbsp\;(The Sharp Dressed Men trilogy\, Background Check). Actors Danica Carlson\, Zach&nbsp\;</span>Cranor<span style="line-height: 20.7999992370605px\;">\, Liz Locke\, Grady O&#39\;Neil\,&nbsp\;</span>Bretton<span style="line-height: 20.7999992370605px\;">&nbsp\;</span>Reis<span style="line-height: 20.7999992370605px\;">\, Dominique&nbsp\;</span>Salvacion<span style="line-height: 20.7999992370605px\;">\, and Michael&nbsp\;</span>Towle<span style="line-height: 20.7999992370605px\;">\, along with some cameos from&nbsp\;</span>Gaskell<span style="line-height: 20.7999992370605px\;">&nbsp\;promise an unforgettable night. Fog of War\, a fast past sketch with World War II pilots written by Eric&nbsp\;</span>Doucet<span style="line-height: 20.7999992370605px\;">\, will return to the Rings stage for the first time since 2008. Hapless&nbsp\;</span>everyman<span style="line-height: 20.7999992370605px\;">&nbsp\;Jeff Simpson returns in an all new adventure\; audiences have previously seen his job interview/dance audition and a failed attempt at pitching his script to a Hollywood producer. Other sketches include the aftermath the Wet River Gang&#39\;s failed bank robber\, a perfect girl&#39\;s night out\, and an inside look at what makes a perfect relationship work. Each night of the show will have 50/50 raffles\, concessions and lots of other fun stuff!</span>
LOCATION:The Players' Ring at 105 Marcy Street in Portsmouth NH
UID:e.1659.2989
SEQUENCE:3
DTSTAMP:20260419T143942Z
URL:https://business.portsmouthchamber.org/events/details/darwin-s-waiting-room-10-10-2014-2989
END:VEVENT

END:VCALENDAR
