BEGIN:VCALENDAR
VERSION:2.0
PRODID:-//ChamberMaster//Event Calendar 2.0//EN
METHOD:PUBLISH
X-PUBLISHED-TTL:P3D
REFRESH-INTERVAL:P3D
CALSCALE:GREGORIAN
BEGIN:VEVENT
DTSTART;VALUE=DATE:20170302
DTEND;VALUE=DATE:20170303
TRANSP:TRANSPARENT
X-MICROSOFT-CDO-ALLDAYEVENT:TRUE
SUMMARY:Deciduous Sour Beer Pairing at Black Trumpet Bistro (Portsmouth Beer Week event)
DESCRIPTION:Deciduous Sour Beer Pairing at Black Trumpet Bistro\, featuring three different dinner pairings\n\n\n\nMenu:\n\n	Chicken confit and oat fried dumpling on oily mustard greens paired with Deciduous Argent\, an Apricot and Pomegranate Berliner Weisse.\n	Cured lamb loin\, roasted fig\, sweet potato and feta cheese salad paired with Deciduous Cab Albricot\, a barreled aged Apricot pseudo Lambic.\n	Sea Scallops in Blood Orange Butter Sauce with frisee\, pickled shallots and hazelnuts paired with Deciduous Predestination\, a barrel aged farmhouse and pseudo Lambic blend.
X-ALT-DESC;FMTTYPE=text/html:Deciduous Sour Beer Pairing at Black Trumpet Bistro\, featuring three different dinner pairings<br />\n<br />\nMenu:\n<ul>\n	<li>Chicken confit and oat fried dumpling on oily mustard greens paired with Deciduous Argent\, an Apricot and Pomegranate Berliner Weisse.</li>\n	<li>Cured lamb loin\, roasted fig\, sweet potato and feta cheese salad paired with Deciduous Cab Albricot\, a barreled aged Apricot pseudo Lambic.</li>\n	<li>Sea Scallops in Blood Orange Butter Sauce with frisee\, pickled shallots and hazelnuts paired with Deciduous Predestination\, a barrel aged farmhouse and pseudo Lambic blend.</li>\n</ul>\n
LOCATION:Black Trumpet 29 Ceres St\, Portsmouth
UID:e.1659.30035
SEQUENCE:3
DTSTAMP:20260421T151538Z
URL:https://business.portsmouthchamber.org/events/details/deciduous-sour-beer-pairing-at-black-trumpet-bistro-portsmouth-beer-week-event-30035
END:VEVENT

END:VCALENDAR
