BEGIN:VCALENDAR
VERSION:2.0
PRODID:-//ChamberMaster//Event Calendar 2.0//EN
METHOD:PUBLISH
X-PUBLISHED-TTL:P3D
REFRESH-INTERVAL:P3D
CALSCALE:GREGORIAN
BEGIN:VEVENT
DTSTART:20131003T214500Z
DTEND:20131003T230000Z
X-MICROSOFT-CDO-ALLDAYEVENT:FALSE
SUMMARY:Design Your Own Meal Plan at The SEACOAST Spine & Sports Injuries Clinic
DESCRIPTION:Every great success has a vision and a plan! \n\nDo you know what to eat and when? \n\nWant to lose weight\, have a ton of energy and feel great? \n\nCristyn can help you do just that!\n\n\n\nLearn to design your own eating plan and get expert advice on how to turn your body into a fat burning machine BEFORE exercise! \n\n\n\nJoin us at Seacoast Spine and Sports Injuries Clinic on \n\nThursday\, October 3rd at 5:45pm. \n\n\n\nBring a friend and reserve your seats call Cristyn today at 603-817-4498. \n\n\n\nYou could win a FREE one on one consult with Cristyn Peters\, BS\, CPT or a therapeutic massage from Scott Corliss\, LMT.
X-ALT-DESC;FMTTYPE=text/html:<span style="color: rgb(51\, 51\, 51)\; font-family: 'lucida grande'\, tahoma\, verdana\, arial\, sans-serif\; font-size: 13px\; line-height: 16px\;">Every great success has a vision and a plan!&nbsp\;</span><br style="color: rgb(51\, 51\, 51)\; font-family: 'lucida grande'\, tahoma\, verdana\, arial\, sans-serif\; font-size: 13px\; line-height: 16px\;" />\n<span style="color: rgb(51\, 51\, 51)\; font-family: 'lucida grande'\, tahoma\, verdana\, arial\, sans-serif\; font-size: 13px\; line-height: 16px\;">Do you know what to eat and when?&nbsp\;</span><br style="color: rgb(51\, 51\, 51)\; font-family: 'lucida grande'\, tahoma\, verdana\, arial\, sans-serif\; font-size: 13px\; line-height: 16px\;" />\n<span style="color: rgb(51\, 51\, 51)\; font-family: 'lucida grande'\, tahoma\, verdana\, arial\, sans-serif\; font-size: 13px\; line-height: 16px\;">Want to lose weight\, have a ton of energy and feel great?&nbsp\;</span><br style="color: rgb(51\, 51\, 51)\; font-family: 'lucida grande'\, tahoma\, verdana\, arial\, sans-serif\; font-size: 13px\; line-height: 16px\;" />\n<span style="color: rgb(51\, 51\, 51)\; font-family: 'lucida grande'\, tahoma\, verdana\, arial\, sans-serif\; font-size: 13px\; line-height: 16px\;">Cristyn can help you do just that!</span><br style="color: rgb(51\, 51\, 51)\; font-family: 'lucida grande'\, tahoma\, verdana\, arial\, sans-serif\; font-size: 13px\; line-height: 16px\;" />\n<br style="color: rgb(51\, 51\, 51)\; font-family: 'lucida grande'\, tahoma\, verdana\, arial\, sans-serif\; font-size: 13px\; line-height: 16px\;" />\n<span style="color: rgb(51\, 51\, 51)\; font-family: 'lucida grande'\, tahoma\, verdana\, arial\, sans-serif\; font-size: 13px\; line-height: 16px\;">Learn to design your own eating plan and get expert advice on how to turn your body into a fat burning machine BEFORE exercise!&nbsp\;</span><br style="color: rgb(51\, 51\, 51)\; font-family: 'lucida grande'\, tahoma\, verdana\, arial\, sans-serif\; font-size: 13px\; line-height: 16px\;" />\n<br style="color: rgb(51\, 51\, 51)\; font-family: 'lucida grande'\, tahoma\, verdana\, arial\, sans-serif\; font-size: 13px\; line-height: 16px\;" />\n<span style="color: rgb(51\, 51\, 51)\; font-family: 'lucida grande'\, tahoma\, verdana\, arial\, sans-serif\; font-size: 13px\; line-height: 16px\;">Join us at Seacoast Spine and Sports Injuries Clinic on&nbsp\;</span><br style="color: rgb(51\, 51\, 51)\; font-family: 'lucida grande'\, tahoma\, verdana\, arial\, sans-serif\; font-size: 13px\; line-height: 16px\;" />\n<span style="color: rgb(51\, 51\, 51)\; font-family: 'lucida grande'\, tahoma\, verdana\, arial\, sans-serif\; font-size: 13px\; line-height: 16px\;">Thursday\, October 3rd at 5:45pm.&nbsp\;</span><br style="color: rgb(51\, 51\, 51)\; font-family: 'lucida grande'\, tahoma\, verdana\, arial\, sans-serif\; font-size: 13px\; line-height: 16px\;" />\n<br style="color: rgb(51\, 51\, 51)\; font-family: 'lucida grande'\, tahoma\, verdana\, arial\, sans-serif\; font-size: 13px\; line-height: 16px\;" />\n<span style="color: rgb(51\, 51\, 51)\; font-family: 'lucida grande'\, tahoma\, verdana\, arial\, sans-serif\; font-size: 13px\; line-height: 16px\;">Bring a friend and reserve your seats call Cristyn today at 603-817-4498.&nbsp\;</span><br style="color: rgb(51\, 51\, 51)\; font-family: 'lucida grande'\, tahoma\, verdana\, arial\, sans-serif\; font-size: 13px\; line-height: 16px\;" />\n<br style="color: rgb(51\, 51\, 51)\; font-family: 'lucida grande'\, tahoma\, verdana\, arial\, sans-serif\; font-size: 13px\; line-height: 16px\;" />\n<span style="color: rgb(51\, 51\, 51)\; font-family: 'lucida grande'\, tahoma\, verdana\, arial\, sans-serif\; font-size: 13px\; line-height: 16px\;">You could win a FREE one on one consult with Cristyn Peters\, BS\, CPT or a therapeutic massage from Scott Corliss\, LMT.</span>
LOCATION:SEACOAST Spine & Sports Injuries Clinic 12 Portwalk Pl Portsmouth\, NH 03801
UID:e.1659.588
SEQUENCE:3
DTSTAMP:20260420T074454Z
URL:https://business.portsmouthchamber.org/events/details/design-your-own-meal-plan-at-the-seacoast-spine-sports-injuries-clinic-10-03-2013-588
END:VEVENT

END:VCALENDAR
