BEGIN:VCALENDAR
VERSION:2.0
PRODID:-//ChamberMaster//Event Calendar 2.0//EN
METHOD:PUBLISH
X-PUBLISHED-TTL:P3D
REFRESH-INTERVAL:P3D
CALSCALE:GREGORIAN
BEGIN:VEVENT
DTSTART:20260324T190000Z
DTEND:20260324T230000Z
X-MICROSOFT-CDO-ALLDAYEVENT:FALSE
SUMMARY:Dine to Donate Benefit at Cheese Louise
DESCRIPTION:Dine-in or take-out at Cheese Louise in Portsmouth on March 24th from 3-7pm and 10% of proceeds will be donated to NHAA!
X-ALT-DESC;FMTTYPE=text/html:<span style="color:rgb(0\, 0\, 0)\; font-family:poppins\; font-size:18.16px">Dine-in or take-out at Cheese Louise in Portsmouth on March 24th from 3-7pm and 10% of proceeds will be donated to NHAA!</span>
LOCATION:
UID:e.1659.89235
SEQUENCE:3
DTSTAMP:20260423T053118Z
URL:https://business.portsmouthchamber.org/events/details/dine-to-donate-benefit-at-cheese-louise-89235
END:VEVENT

END:VCALENDAR
