BEGIN:VCALENDAR
VERSION:2.0
PRODID:-//ChamberMaster//Event Calendar 2.0//EN
METHOD:PUBLISH
X-PUBLISHED-TTL:P3D
REFRESH-INTERVAL:P3D
CALSCALE:GREGORIAN
BEGIN:VEVENT
DTSTART:20161119T220000Z
DTEND:20161120T000000Z
X-MICROSOFT-CDO-ALLDAYEVENT:FALSE
SUMMARY:Discover Portsmouth Center: Starry Night
DESCRIPTION:Something about the mystery of islands and the endless sea vista seems to ignite creativity\, and the Shoals have inspired writers\, musicians and artists for centuries. Step back in time to one of America's first salons and explore the work the Shoals' own Celia Thaxter along with the artistry of the visitors to her parlor. Discover how these talented individuals collaborated to produce some of their finest pieces. On Saturday\, November 19 join us for Star Island's fall fundraiser\, an evening inspired by Celia Thaxter and her talented circle of friends. The evening's speakers include: Shoals Historian\, Ann Beattie Portsmouth Poet Laureate\, Kate Leigh
X-ALT-DESC;FMTTYPE=text/html:Something about the mystery of islands and the endless sea vista seems to ignite creativity\, and the Shoals have inspired writers\, musicians and artists for centuries. Step back in time to one of America&rsquo\;s first salons and explore the work the Shoals&rsquo\; own Celia Thaxter along with the artistry of the visitors to her parlor. Discover how these talented individuals collaborated to produce some of their finest pieces. On Saturday\, November 19 join us for Star Island&rsquo\;s fall fundraiser\, an evening inspired by Celia Thaxter and her talented circle of friends. The evening&rsquo\;s speakers include: Shoals Historian\, Ann Beattie Portsmouth Poet Laureate\, Kate Leigh
LOCATION:Discover Portsmouth Center 10 Middle Street\, Portsmouth
UID:e.1659.27929
SEQUENCE:3
DTSTAMP:20260421T212758Z
URL:https://business.portsmouthchamber.org/events/details/discover-portsmouth-center-starry-night-27929
END:VEVENT

END:VCALENDAR
