BEGIN:VCALENDAR
VERSION:2.0
PRODID:-//ChamberMaster//Event Calendar 2.0//EN
METHOD:PUBLISH
X-PUBLISHED-TTL:P3D
REFRESH-INTERVAL:P3D
CALSCALE:GREGORIAN
BEGIN:VEVENT
DTSTART:20170420T213000Z
DTEND:20170420T223000Z
X-MICROSOFT-CDO-ALLDAYEVENT:FALSE
SUMMARY:Discover Portsmouth presents "From Joiner to Cabinetmaker: Early Furniture from the Seacoast"
DESCRIPTION:Gerald W.R. Ward\, curator of the exhibition\, and noted Portsmouth antiques dealer Hollis Brodrick will present an overview of the show in a brief lecture followed by an informal gallery tour. The evening offers an opportunity for close and in-depth study of several key pieces in the exhibition\, particularly those from the late seventeenth and early eighteenth centuries\, from several perspectives.
X-ALT-DESC;FMTTYPE=text/html:Gerald W.R. Ward\, curator of the exhibition\, and noted Portsmouth antiques dealer Hollis Brodrick will present an overview of the show in a brief lecture followed by an informal gallery tour. The evening offers an opportunity for close and in-depth study of several key pieces in the exhibition\, particularly those from the late seventeenth and early eighteenth centuries\, from several perspectives.
LOCATION:Discover Portsmouth 10 Middle St\, Portsmouth
UID:e.1659.30267
SEQUENCE:3
DTSTAMP:20260421T132602Z
URL:https://business.portsmouthchamber.org/events/details/discover-portsmouth-presents-from-joiner-to-cabinetmaker-early-furniture-from-the-seacoast-30267
END:VEVENT

END:VCALENDAR
