BEGIN:VCALENDAR
VERSION:2.0
PRODID:-//ChamberMaster//Event Calendar 2.0//EN
METHOD:PUBLISH
X-PUBLISHED-TTL:P3D
REFRESH-INTERVAL:P3D
CALSCALE:GREGORIAN
BEGIN:VEVENT
DTSTART:20170615T213000Z
DTEND:20170615T223000Z
X-MICROSOFT-CDO-ALLDAYEVENT:FALSE
SUMMARY:Discover Portsmouth's Free Lecture: Sixty Years of Antiquing in the Piscataqua Area
DESCRIPTION:Ron Bourgeault\, the legendary figure and principal of Northeast Auctions in Portsmouth\, will offer a look at the collecting and connoisseurship of Seacoast-area furniture and other works of art\, based on his unique perspective and unparalleled experience in the New England and national marketplace.
X-ALT-DESC;FMTTYPE=text/html:Ron Bourgeault\, the legendary figure and principal of Northeast Auctions in Portsmouth\, will offer a look at the collecting and connoisseurship of Seacoast-area furniture and other works of art\, based on his unique perspective and unparalleled experience in the New England and national marketplace.
LOCATION:Discover Portsmouth 10 Middle St Portsmouth\, NH
UID:e.1659.31413
SEQUENCE:3
DTSTAMP:20260419T115613Z
URL:https://business.portsmouthchamber.org/events/details/discover-portsmouth-s-free-lecture-sixty-years-of-antiquing-in-the-piscataqua-area-31413
END:VEVENT

END:VCALENDAR
