BEGIN:VCALENDAR
VERSION:2.0
PRODID:-//ChamberMaster//Event Calendar 2.0//EN
METHOD:PUBLISH
X-PUBLISHED-TTL:P3D
REFRESH-INTERVAL:P3D
CALSCALE:GREGORIAN
BEGIN:VEVENT
DTSTART:20161008T140000Z
DTEND:20161008T150000Z
X-MICROSOFT-CDO-ALLDAYEVENT:FALSE
SUMMARY:Discover Portsmouth's Historic Walking Tour
DESCRIPTION:The Portsmouth Advocates present the fourth annual series of guided walking tours lead by Richard M. Candee\, author of Building Portsmouth. The 2016 schedule features seven of Portsmouth's famous neighborhoods exploring the unique architectural landscape and the stories embedded in the bricks and mortar. All tours begin at Discover Portsmouth located at 10 Middle Street. October 8\, Victorian West End Victorian Portsmouth & the development of 'Rundlett's Mountain'
X-ALT-DESC;FMTTYPE=text/html:The Portsmouth Advocates present the fourth annual series of guided walking tours lead by Richard M. Candee\, author of Building Portsmouth. The 2016 schedule features seven of Portsmouth&rsquo\;s famous neighborhoods exploring the unique architectural landscape and the stories embedded in the bricks and mortar. All tours begin at Discover Portsmouth located at 10 Middle Street. October 8\, Victorian West End Victorian Portsmouth &amp\; the development of &lsquo\;Rundlett&rsquo\;s Mountain&rsquo\;
LOCATION:Discover Portsmouth located at 10 Middle Street.
UID:e.1659.24514
SEQUENCE:3
DTSTAMP:20260421T225715Z
URL:https://business.portsmouthchamber.org/events/details/discover-portsmouth-s-historic-walking-tour-10-08-2016-24514
END:VEVENT

END:VCALENDAR
