BEGIN:VCALENDAR
VERSION:2.0
PRODID:-//ChamberMaster//Event Calendar 2.0//EN
METHOD:PUBLISH
X-PUBLISHED-TTL:P3D
REFRESH-INTERVAL:P3D
CALSCALE:GREGORIAN
BEGIN:VEVENT
DTSTART:20170627T150000Z
DTEND:20170627T163000Z
X-MICROSOFT-CDO-ALLDAYEVENT:FALSE
SUMMARY:Discover Portsmouth's History & Homes Tour
DESCRIPTION:Walk in the steps of U.S. Presidents who have visited the city\, and visualize the impact of three major fires in the early 19th century. Tour stops briefly in front of six historic houses and touches on Portsmouth's economy.
X-ALT-DESC;FMTTYPE=text/html:Walk in the steps of U.S. Presidents who have visited the city\, and visualize the impact of three major fires in the early 19th century. Tour stops briefly in front of six historic houses and touches on Portsmouth&rsquo\;s economy.
LOCATION:Discover Portsmouth 10 Middle St\, Portsmouth
UID:e.1659.31553
SEQUENCE:3
DTSTAMP:20260419T120633Z
URL:https://business.portsmouthchamber.org/events/details/discover-portsmouth-s-history-homes-tour-06-27-2017-31553
END:VEVENT

END:VCALENDAR
