BEGIN:VCALENDAR
VERSION:2.0
PRODID:-//ChamberMaster//Event Calendar 2.0//EN
METHOD:PUBLISH
X-PUBLISHED-TTL:P3D
REFRESH-INTERVAL:P3D
CALSCALE:GREGORIAN
BEGIN:VEVENT
DTSTART:20160329T223000Z
DTEND:20160330T013000Z
X-MICROSOFT-CDO-ALLDAYEVENT:FALSE
SUMMARY:Drink & Draw at Block Six
DESCRIPTION:Portsmouth Drink & Draw is all about gathering creative minds in one place to have a few libations\, some lively conversation\, and some creative fun.\n\n\n\nWe'll meet the last Tuesday of every month for a few hours to mingle\,drink\, and make art\, right here at Block Six\, the restaurant at 3S. All are welcome!\n\n\n\nFor more information\, visit www.drinkanddrawportsmouth.com.
X-ALT-DESC;FMTTYPE=text/html:Portsmouth Drink &amp\; Draw is all about gathering creative minds in one place to have a few libations\, some lively conversation\, and some creative fun.<br />\n<br />\nWe&#39\;ll meet the last Tuesday of every month for a few hours to mingle\,drink\, and make art\, right here at Block Six\, the restaurant at 3S. All are welcome!<br />\n<br />\nFor more information\, visit&nbsp\;www.drinkanddrawportsmouth.com.
LOCATION:Block Six at 3S Artspace 319 Vaughan Street\, Portsmouth
UID:e.1659.17904
SEQUENCE:3
DTSTAMP:20260420T145146Z
URL:https://business.portsmouthchamber.org/events/details/drink-draw-at-block-six-03-29-2016-17904
END:VEVENT

END:VCALENDAR
