BEGIN:VCALENDAR
VERSION:2.0
PRODID:-//ChamberMaster//Event Calendar 2.0//EN
METHOD:PUBLISH
X-PUBLISHED-TTL:P3D
REFRESH-INTERVAL:P3D
CALSCALE:GREGORIAN
BEGIN:VEVENT
DTSTART:20170628T213000Z
DTEND:20170628T224500Z
X-MICROSOFT-CDO-ALLDAYEVENT:FALSE
SUMMARY:Join Historic New England for Early Innovations
DESCRIPTION:Early Innovations\, explores changes in domestic technology in the nineteenth and twentieth centuries and is offered on Wednesday\, June 28 from 5:30-6:45 p.m. at Rundlet-May House\, 364 Middle Street. The tour explores areas of the 1807 mansion not normally open to the public\, such as the basement and service ell. See a progression of modern conveniences including a Rumford roaster and broiler\, a privy with wallpaper\, a 1930s bathroom\, and early central heating system. Admission for the program is $15\; $10 for Historic New England members. Registration is required at www.historicnewengland.org. Call 603-436-3205 for further information.
X-ALT-DESC;FMTTYPE=text/html:Early Innovations\, explores changes in domestic technology in the nineteenth and twentieth centuries and is offered on Wednesday\, June 28 from 5:30-6:45 p.m. at Rundlet-May House\, 364 Middle Street. The tour explores areas of the 1807 mansion not normally open to the public\, such as the basement and service ell. See a progression of modern conveniences including a Rumford roaster and broiler\, a privy with wallpaper\, a 1930s bathroom\, and early central heating system. Admission for the program is $15\; $10 for Historic New England members. Registration is required at www.historicnewengland.org. Call 603-436-3205 for further information.
LOCATION:Rundlet-May House\, 364 Middle Street\, Portsmouth
UID:e.1659.31793
SEQUENCE:3
DTSTAMP:20260421T114907Z
URL:https://business.portsmouthchamber.org/events/details/early-innovations-31793
END:VEVENT

END:VCALENDAR
