BEGIN:VCALENDAR
VERSION:2.0
PRODID:-//ChamberMaster//Event Calendar 2.0//EN
METHOD:PUBLISH
X-PUBLISHED-TTL:P3D
REFRESH-INTERVAL:P3D
CALSCALE:GREGORIAN
BEGIN:VEVENT
DTSTART:20170303T220000Z
DTEND:20170304T045500Z
X-MICROSOFT-CDO-ALLDAYEVENT:FALSE
SUMMARY:Earth Eagle Brewings celebrates Portsmouth Beer Week with Funky Friday: Funky\, Sour\, Barrel- Aged Insanity!
DESCRIPTION:Taking over our taps with special EEB funky\, sour and bbl-aged beers saved for this very occasion! Maybe some special guest taps too!
X-ALT-DESC;FMTTYPE=text/html:Taking over our taps with special EEB funky\, sour and bbl-aged beers saved for this very occasion! Maybe some special guest taps too!
LOCATION:Earth Eagle Brewings 165 High St\, Portsmouth
UID:e.1659.29908
SEQUENCE:3
DTSTAMP:20260421T151539Z
URL:https://business.portsmouthchamber.org/events/details/earth-eagle-brewings-celebrates-portsmouth-beer-week-with-funky-friday-funky-sour-barrel-aged-insanity-29908
END:VEVENT

END:VCALENDAR
