BEGIN:VCALENDAR
VERSION:2.0
PRODID:-//ChamberMaster//Event Calendar 2.0//EN
METHOD:PUBLISH
X-PUBLISHED-TTL:P3D
REFRESH-INTERVAL:P3D
CALSCALE:GREGORIAN
BEGIN:VEVENT
DTSTART:20170228T220000Z
DTEND:20170301T000000Z
X-MICROSOFT-CDO-ALLDAYEVENT:FALSE
SUMMARY:Earth Eagle Brewings invites you to Dipfest '17 (a Portsmouth Beer Week event)
DESCRIPTION:3 of the Earth Eagle Brewings' Beer\, 3 of Smuttynose Brewing Company's Beer all paried with 6- home-made sauces to do yer dippin' in! This will be scrumpdillicious!
X-ALT-DESC;FMTTYPE=text/html:3 of the Earth Eagle Brewings&#39\; Beer\, 3 of Smuttynose Brewing Company&#39\;s Beer all paried with 6- home-made sauces to do yer dippin&#39\; in! This will be scrumpdillicious!&nbsp\;
LOCATION:Earth Eagle Brewings 165 High St\, Portsmouth
UID:e.1659.29906
SEQUENCE:3
DTSTAMP:20260421T164419Z
URL:https://business.portsmouthchamber.org/events/details/earth-eagle-brewings-invites-you-to-dipfest-17-a-portsmouth-beer-week-event-29906
END:VEVENT

END:VCALENDAR
