BEGIN:VCALENDAR
VERSION:2.0
PRODID:-//ChamberMaster//Event Calendar 2.0//EN
METHOD:PUBLISH
X-PUBLISHED-TTL:P3D
REFRESH-INTERVAL:P3D
CALSCALE:GREGORIAN
BEGIN:VEVENT
DTSTART:20140420T140000Z
DTEND:20140420T190000Z
X-MICROSOFT-CDO-ALLDAYEVENT:FALSE
SUMMARY:EASTER BRUNCH
DESCRIPTION:Menu: Chef attended omelet station Bacon\, sausage\, Pork farmers hash\,choco stout french toast\,NE clam chowder\,antipasto\,shrimp scampi\,chicken marsala\, carved ham\,carved roast beef\, Desserts Choco fountain\,fruit\,blueberry crumb cake\,
X-ALT-DESC;FMTTYPE=text/html:Menu: Chef attended omelet station Bacon\, sausage\, Pork farmers hash\,choco stout french toast\,NE clam chowder\,antipasto\,shrimp scampi\,chicken marsala\, carved ham\,carved roast beef\, Desserts Choco fountain\,fruit\,blueberry crumb cake\,
LOCATION:Regatta banquet and conference center Rte 236 Eliot Maine
UID:e.1659.1488
SEQUENCE:3
DTSTAMP:20260419T230956Z
URL:https://business.portsmouthchamber.org/events/details/easter-brunch-04-20-2014-1488
END:VEVENT

END:VCALENDAR
