BEGIN:VCALENDAR
VERSION:2.0
PRODID:-//ChamberMaster//Event Calendar 2.0//EN
METHOD:PUBLISH
X-PUBLISHED-TTL:P3D
REFRESH-INTERVAL:P3D
CALSCALE:GREGORIAN
BEGIN:VEVENT
DTSTART:20260405T140000Z
DTEND:20260405T180000Z
X-MICROSOFT-CDO-ALLDAYEVENT:FALSE
SUMMARY:Easter Brunch at Jumpin’ Jay’s Fish Cafe
DESCRIPTION:Join us for Easter brunch at Jumpin' Jay's Fish Cafe in downtown Portsmouth on Sunday\, April 5 from 10am 2pm.\n\nBrunch at Jay's only happens twice a year\, so Easter is one of the rare chances to experience it. Instead of a buffet\, Jay's offers a full restaurant menu with seafood-forward brunch dishes and selections from the raw bar.\n\nYou'll find dishes like Crab Cake Benedict\, Lobster Roll\, Belgian waffles with Maine blueberry compote\, and Eggs & Hash with house-cured corned beef\, along with brunch cocktails like the Seafaring Mary and Passionfruit Bellini.\n\nReservations are recommended and can be made online at jumpinjays.com or by calling (603) 766-3474.\n\n\n\nEaster brunch is one of the most popular dining days in Portsmouth\, and reservations tend to fill early.
X-ALT-DESC;FMTTYPE=text/html:<p>Join us for <strong>Easter brunch at Jumpin&rsquo\; Jay&rsquo\;s Fish Cafe in downtown Portsmouth on Sunday\, April 5 from 10am&ndash\;2pm</strong>.</p>\n\n<p>Brunch at Jay&rsquo\;s only happens twice a year\, so Easter is one of the rare chances to experience it. Instead of a buffet\, Jay&rsquo\;s offers a full restaurant menu with seafood-forward brunch dishes and selections from the raw bar.</p>\n\n<p>You&rsquo\;ll find dishes like <strong>Crab Cake Benedict\, Lobster Roll\, Belgian waffles with Maine blueberry compote\, and Eggs &amp\; Hash with house-cured corned beef</strong>\, along with brunch cocktails like the <strong>Seafaring Mary and Passionfruit Bellini</strong>.</p>\n\n<p>Reservations are recommended and can be made online at <strong>jumpinjays.com</strong> or by calling <strong>(603) 766-3474</strong>.<br />\n<br />\nEaster brunch is one of the most popular dining days in Portsmouth\, and reservations tend to fill early.</p>\n
LOCATION:Jumpin' Jay's Fish Cafe 150 Congress Street Portsmouth\, NH
UID:e.1659.89307
SEQUENCE:3
DTSTAMP:20260423T040428Z
URL:https://business.portsmouthchamber.org/events/details/easter-brunch-at-jumpin-jay-s-fish-cafe-89307
END:VEVENT

END:VCALENDAR
