BEGIN:VCALENDAR
VERSION:2.0
PRODID:-//ChamberMaster//Event Calendar 2.0//EN
METHOD:PUBLISH
X-PUBLISHED-TTL:P3D
REFRESH-INTERVAL:P3D
CALSCALE:GREGORIAN
BEGIN:VEVENT
DTSTART:20260405T140000Z
DTEND:20260405T190000Z
X-MICROSOFT-CDO-ALLDAYEVENT:FALSE
SUMMARY:Easter Brunch at Ore Nell’s Barbecue (Kittery\, Maine)
DESCRIPTION:Join us for Easter brunch at Ore Nell's Barbecue in nearby Kittery\, Maine on Sunday\, April 5 from 10am 3pm.\n\nOre Nell's will be serving its regular weekend brunch menu\, which puts a barbecue spin on classic brunch dishes\, along with a few specials for the holiday.\n\nYou'll find favorites like Brisket Eggs Benedict with cilantro hollandaise\, Pulled Pork Hash with salsa verde\, Tex-Shouka with brisket chili and poached eggs\, and fresh beignets with cinnamon sugar. Brunch cocktails like mimosas\, Irish coffee\, and Bloody Marys will also be available.\n\nReservations can be made online or by calling (207) 703-2340. Walk-ins are also welcome.
X-ALT-DESC;FMTTYPE=text/html:<p>Join us for <strong>Easter brunch at Ore Nell&rsquo\;s Barbecue in nearby Kittery\, Maine on Sunday\, April 5 from 10am&ndash\;3pm</strong>.</p>\n\n<p>Ore Nell&rsquo\;s will be serving its regular weekend brunch menu\, which puts a barbecue spin on classic brunch dishes\, along with <strong>a few specials for the holiday</strong>.</p>\n\n<p>You&rsquo\;ll find favorites like <strong>Brisket Eggs Benedict with cilantro hollandaise\, Pulled Pork Hash with salsa verde\, Tex-Shouka with brisket chili and poached eggs\, and fresh beignets with cinnamon sugar</strong>. Brunch cocktails like <strong>mimosas\, Irish coffee\, and Bloody Marys</strong> will also be available.</p>\n\n<p>Reservations can be made <strong>online or by calling (207) 703-2340</strong>. Walk-ins are also welcome.</p>\n
LOCATION:Ore Nell's Barbecue 2 Badgers Island West Kittery\, ME
UID:e.1659.89312
SEQUENCE:3
DTSTAMP:20260423T052823Z
URL:https://business.portsmouthchamber.org/events/details/easter-brunch-at-ore-nell-s-barbecue-kittery-maine-89312
END:VEVENT

END:VCALENDAR
