BEGIN:VCALENDAR
VERSION:2.0
PRODID:-//ChamberMaster//Event Calendar 2.0//EN
METHOD:PUBLISH
X-PUBLISHED-TTL:P3D
REFRESH-INTERVAL:P3D
CALSCALE:GREGORIAN
BEGIN:VEVENT
DTSTART:20260405T133000Z
DTEND:20260405T190000Z
X-MICROSOFT-CDO-ALLDAYEVENT:FALSE
SUMMARY:Easter Brunch at Street Portsmouth
DESCRIPTION:Join us for Easter brunch at Street Portsmouth on Sunday\, April 5 from 9:30am 3pm.\n\nStreet will be serving its regular brunch menu featuring globally inspired street food dishes. You'll find favorites like Huevos Rancheros\, French Toast Especiale\, Sausage Gravy & Biscuits\, and creative Benedicts like the Sweet Home Alabruncha or K-Town Benny.\n\nStreet normally operates first-come\, first-served\, but reservations will be accepted for Easter Sunday.\n\nReservations can be made by phone at (603) 436-0860.
X-ALT-DESC;FMTTYPE=text/html:<p>Join us for <strong>Easter brunch at Street Portsmouth on Sunday\, April 5 from 9:30am&ndash\;3pm</strong>.</p>\n\n<p>Street will be serving its regular brunch menu featuring globally inspired street food dishes. You&rsquo\;ll find favorites like <strong>Huevos Rancheros\, French Toast Especiale\, Sausage Gravy &amp\; Biscuits\, and creative Benedicts like the Sweet Home Alabruncha or K-Town Benny</strong>.</p>\n\n<p>Street normally operates first-come\, first-served\, but <strong>reservations will be accepted for Easter Sunday</strong>.</p>\n\n<p>Reservations can be made by phone at <strong>(603) 436-0860</strong>.</p>\n
LOCATION:Street 801 Islington Street Portsmouth\, NH
UID:e.1659.89311
SEQUENCE:3
DTSTAMP:20260423T053553Z
URL:https://business.portsmouthchamber.org/events/details/easter-brunch-at-street-portsmouth-89311
END:VEVENT

END:VCALENDAR
