BEGIN:VCALENDAR
VERSION:2.0
PRODID:-//ChamberMaster//Event Calendar 2.0//EN
METHOD:PUBLISH
X-PUBLISHED-TTL:P3D
REFRESH-INTERVAL:P3D
CALSCALE:GREGORIAN
BEGIN:VEVENT
DTSTART:20260405T160000Z
DTEND:20260405T160000Z
X-MICROSOFT-CDO-ALLDAYEVENT:FALSE
SUMMARY:Easter Brunch at Vida Cantina
DESCRIPTION:Join us for Easter brunch at Vida Cantina in Portsmouth on Sunday\, April 5 from 10am 3pm.\n\nVida will be serving brunch specials for the holiday alongside its usual lunch menu\, bringing together bold Mexican flavors and weekend brunch favorites.\n\nExpect dishes like Huevos Rancheros\, breakfast tacos\, and seasonal brunch specials\, along with Vida's margaritas and brunch cocktails.\n\nReservations can be made online or by calling (603) 501-0648. Walk-ins are also welcome.
X-ALT-DESC;FMTTYPE=text/html:<p>Join us for <strong>Easter brunch at Vida Cantina in Portsmouth on Sunday\, April 5 from 10am&ndash\;3pm</strong>.</p>\n\n<p>Vida will be serving <strong>brunch specials for the holiday alongside its usual lunch menu</strong>\, bringing together bold Mexican flavors and weekend brunch favorites.</p>\n\n<p>Expect dishes like <strong>Huevos Rancheros\, breakfast tacos\, and seasonal brunch specials</strong>\, along with Vida&rsquo\;s margaritas and brunch cocktails.</p>\n\n<p>Reservations can be made <strong>online or by calling (603) 501-0648</strong>. Walk-ins are also welcome.</p>\n
LOCATION:Vida Cantina 2456 Lafayette Rd Portsmouth\, NH
UID:e.1659.89310
SEQUENCE:3
DTSTAMP:20260423T052713Z
URL:https://business.portsmouthchamber.org/events/details/easter-brunch-at-vida-cantina-89310
END:VEVENT

END:VCALENDAR
