BEGIN:VCALENDAR
VERSION:2.0
PRODID:-//ChamberMaster//Event Calendar 2.0//EN
METHOD:PUBLISH
X-PUBLISHED-TTL:P3D
REFRESH-INTERVAL:P3D
CALSCALE:GREGORIAN
BEGIN:VEVENT
DTSTART:20140109T220000Z
DTEND:20140110T000000Z
X-MICROSOFT-CDO-ALLDAYEVENT:FALSE
SUMMARY:eBrew
DESCRIPTION:A networking event for the local technology community.
X-ALT-DESC;FMTTYPE=text/html:A networking event for the local technology community.
LOCATION:The Press Room on Daniel Street in Portsmouth.
UID:e.1659.393
SEQUENCE:3
DTSTAMP:20260420T031310Z
URL:https://business.portsmouthchamber.org/events/details/ebrew-01-09-2014-393
END:VEVENT

END:VCALENDAR
