BEGIN:VCALENDAR
VERSION:2.0
PRODID:-//ChamberMaster//Event Calendar 2.0//EN
METHOD:PUBLISH
X-PUBLISHED-TTL:P3D
REFRESH-INTERVAL:P3D
CALSCALE:GREGORIAN
BEGIN:VEVENT
DTSTART:20140403T213000Z
DTEND:20140403T233000Z
X-MICROSOFT-CDO-ALLDAYEVENT:FALSE
SUMMARY:eBrew
DESCRIPTION:A networking event for the local technology community.
X-ALT-DESC;FMTTYPE=text/html:A networking event for the local technology community.
LOCATION:The Press Room 77 Daniel St Portsmouth\, NH 03801
UID:e.1659.1027
SEQUENCE:3
DTSTAMP:20260419T230942Z
URL:https://business.portsmouthchamber.org/events/details/ebrew-04-03-2014-1027
END:VEVENT

END:VCALENDAR
