BEGIN:VCALENDAR
VERSION:2.0
PRODID:-//ChamberMaster//Event Calendar 2.0//EN
METHOD:PUBLISH
X-PUBLISHED-TTL:P3D
REFRESH-INTERVAL:P3D
CALSCALE:GREGORIAN
BEGIN:VEVENT
DTSTART:20140605T210000Z
DTEND:20140605T230000Z
X-MICROSOFT-CDO-ALLDAYEVENT:FALSE
SUMMARY:eBrew at Cloudport
DESCRIPTION:Our last eBrew until fall will be celebrated at the NEW Cloudport space! Clouport is a workspace where innovation\, collaboration & creativity connect. \n\n\n\nFREE Flatbread Pizza will be served along with complimentary brews. \n\n\n\nSupport your community and spread the word!
X-ALT-DESC;FMTTYPE=text/html:Our last eBrew until fall will be celebrated at the NEW Cloudport space! Clouport is a workspace where innovation\, collaboration &amp\; creativity connect.&nbsp\;<br />\n<br />\nFREE Flatbread Pizza will be served along with complimentary brews.&nbsp\;<br />\n<br />\nSupport your community and spread the word!
LOCATION:51 Islington Street\, Portsmouth NH
UID:e.1659.1529
SEQUENCE:3
DTSTAMP:20260419T202134Z
URL:https://business.portsmouthchamber.org/events/details/ebrew-at-cloudport-06-05-2014-1529
END:VEVENT

END:VCALENDAR
