BEGIN:VCALENDAR
VERSION:2.0
PRODID:-//ChamberMaster//Event Calendar 2.0//EN
METHOD:PUBLISH
X-PUBLISHED-TTL:P3D
REFRESH-INTERVAL:P3D
CALSCALE:GREGORIAN
BEGIN:VEVENT
DTSTART:20161108T140000Z
DTEND:20161109T020000Z
X-MICROSOFT-CDO-ALLDAYEVENT:FALSE
SUMMARY:Elect to Relax - Special One Day Only Deal!
DESCRIPTION:For one day only\, take some time to relax after this long and stressful election season! On November 8th only\, you can receive a 50-minute massage or facial for only $39.95!
X-ALT-DESC;FMTTYPE=text/html:For one day only\, take some time to relax after this long and stressful election season! On November 8th only\, you can receive a 50-minute massage or facial for only $39.95!
LOCATION:Hand & Stone Massage & Facial Spa 2454 Lafayette Rd\, #23 Portsmouth\, NH 03801 603-677-1406
UID:e.1659.27953
SEQUENCE:3
DTSTAMP:20260421T211733Z
URL:https://business.portsmouthchamber.org/events/details/elect-to-relax-special-one-day-only-deal-27953
END:VEVENT

END:VCALENDAR
