BEGIN:VCALENDAR
VERSION:2.0
PRODID:-//ChamberMaster//Event Calendar 2.0//EN
METHOD:PUBLISH
X-PUBLISHED-TTL:P3D
REFRESH-INTERVAL:P3D
CALSCALE:GREGORIAN
BEGIN:VEVENT
DTSTART:20161031T130000Z
DTEND:20161031T143000Z
X-MICROSOFT-CDO-ALLDAYEVENT:FALSE
SUMMARY:Electrical Energy Costs and the Northern Pass Project: Your Opportunity to Weigh-in
DESCRIPTION:Please join us October 31st from 9:00   10:30 for a meeting we're hosting with the Business & Industry Association of New Hampshire to hear from Public Counsel and Assistant State Attorney General Peter Roth about his role representing the public on the Northern Pass Project\, and to provide an opportunity for business leaders to voice their opinions about high electricity prices in New Hampshire generally\, and the Northern Pass project specifically.\n\n\n\nMr. Roth was appointed by the state's Site Evaluation Committee as "public counsel" to represent the public\, including businesses\, on the project. Please note BIA is neutral on Northern Pass\, but is working with our chamber and others to facilitate a dialogue on electrical energy costs. \n\n\n\nThe October 31st meeting is being hosted by Pierce Atwood\, Pease International Tradeport\, One New Hampshire Avenue\, third floor conference room immediately off the elevator.  Seating is limited. \n\n\n\nIf you are interested in attending\, please RSVP with Lucie Labombard llabombard@BIAofNH.com or 603-224-5388 x100 by noon on Thursday October 27th.\n\n\n\nLooking forward to seeing you on the 31st for this important dialogue!
X-ALT-DESC;FMTTYPE=text/html:Please join us October 31st from 9:00 &ndash\; 10:30 for a meeting we&rsquo\;re hosting with the Business &amp\; Industry Association of New Hampshire to hear from Public Counsel and Assistant State Attorney General Peter Roth about his role representing the public on the Northern Pass Project\, and to provide an opportunity for business leaders to voice their opinions about high electricity prices in New Hampshire generally\, and the Northern Pass project specifically.<br />\n<br />\nMr. Roth was appointed by the state&rsquo\;s Site Evaluation Committee as &ldquo\;public counsel&rdquo\; to represent the public\, including businesses\, on the project. Please note BIA is neutral on Northern Pass\, but is working with our chamber and others to facilitate a dialogue on electrical energy costs.&nbsp\;<br />\n<br />\nThe October 31st meeting is being hosted by Pierce Atwood\, Pease International Tradeport\, One New Hampshire Avenue\, third floor conference room immediately off the elevator. &nbsp\;Seating is limited.&nbsp\;<br />\n<br />\nIf you are interested in attending\, please RSVP with Lucie Labombard <a href="mailto:llabombard@BIAofNH.com">llabombard@BIAofNH.com</a> or 603-224-5388 x100 by noon on Thursday October 27th.<br />\n<br />\nLooking forward to seeing you on the 31st for this important dialogue!&nbsp\;
LOCATION:Pierce Atwood Pease International Tradeport One New Hampshire Avenue 3rd Floor Conference Room
UID:e.1659.25920
SEQUENCE:3
DTSTAMP:20260422T004543Z
URL:https://business.portsmouthchamber.org/events/details/electrical-energy-costs-and-the-northern-pass-project-your-opportunity-to-weigh-in-25920
END:VEVENT

END:VCALENDAR
