BEGIN:VCALENDAR
VERSION:2.0
PRODID:-//ChamberMaster//Event Calendar 2.0//EN
METHOD:PUBLISH
X-PUBLISHED-TTL:P3D
REFRESH-INTERVAL:P3D
CALSCALE:GREGORIAN
BEGIN:VEVENT
DTSTART:20131115T210000Z
DTEND:20131116T020000Z
X-MICROSOFT-CDO-ALLDAYEVENT:FALSE
SUMMARY:Elements Massage - Annual Client Appreciation Open House
DESCRIPTION:Please join us for Elements Annual Client Appreciation Open House\, Friday\, 11/15 from 4PM - 9PM.  \n\n\n\nFree Chair Massage. Great Raffle Prizes from local merchants (want to put anything in this years raffle?).  Hors d' oeuvres\, wine and more will be served.\n\n\n\nWe also offer our very best prices of the year on Gift Cards!  These prices are NOT repeated at any time during the year.\n\n\n\nPlease join us!  \n\n\n\n(or contact us if you'd like to donate something to our raffle.  We had over 400 people visit us last year!)
X-ALT-DESC;FMTTYPE=text/html:Please join us for Elements Annual Client Appreciation Open House\, Friday\, 11/15 from 4PM - 9PM. &nbsp\;<br />\n<br />\nFree Chair Massage. Great Raffle Prizes from local merchants (want to put anything in this years raffle?). &nbsp\;Hors d&#39\; oeuvres\, wine and more will be served.<br />\n<br />\n<strong>We also offer our very best prices of the year on Gift Cards!</strong> &nbsp\;These prices are NOT repeated at any time during the year.<br />\n<br />\nPlease join us! &nbsp\;<br />\n<br />\n(or contact us if you&#39\;d like to donate something to our raffle. &nbsp\;We had over 400 people visit us last year!)<br />\n<br />\n<br />\n
LOCATION:Elements Massage Portsmouth. 775 Lafayette Rd. Next to Planet Fitness.
UID:e.1659.724
SEQUENCE:3
DTSTAMP:20260420T054617Z
URL:https://business.portsmouthchamber.org/events/details/elements-massage-annual-client-appreciation-open-house-11-15-2013-724
END:VEVENT

END:VCALENDAR
