BEGIN:VCALENDAR
VERSION:2.0
PRODID:-//ChamberMaster//Event Calendar 2.0//EN
METHOD:PUBLISH
X-PUBLISHED-TTL:P3D
REFRESH-INTERVAL:P3D
CALSCALE:GREGORIAN
BEGIN:VEVENT
DTSTART:20160102T010000Z
DTEND:20160102T040000Z
X-MICROSOFT-CDO-ALLDAYEVENT:FALSE
SUMMARY:Emotion Memory & Ravished at Players' Ring Theatre
DESCRIPTION:The Players' Ring presents two one-act plays inspired by two literary masters: Emotion Memory visits the real-life relationship between Anton Chekhov and Lydia Mizinova\, or Lyka\, his inspiration for the character of Nina in The Seagull. Both comic and tragic\, it explores the nature of creation\, the consequence of being a muse\, and a passionate confrontation between Chekhov and Stanislavsky.\n\n\n\nRavished is a modern retelling of William Shakespeare's The Rape of Lucrece. In this modern adaption\, the truth of what happens between Tarquin and Lucrece is not so clear and leads Coll to question: How much can you trust your friend? How much can you trust your lover? How much can you trust your own memory?
X-ALT-DESC;FMTTYPE=text/html:The Players' Ring presents two one-act plays inspired by two literary masters: Emotion Memory visits the real-life relationship between Anton Chekhov and Lydia Mizinova\, or Lyka\, his inspiration for the character of Nina in The Seagull. Both comic and tragic\, it explores the nature of creation\, the consequence of being a muse\, and a passionate confrontation between Chekhov and Stanislavsky.<br>\n<br>\nRavished is a modern retelling of William Shakespeare's The Rape of Lucrece. In this modern adaption\, the truth of what happens between Tarquin and Lucrece is not so clear and leads Coll to question: How much can you trust your friend? How much can you trust your lover? How much can you trust your own memory?
LOCATION:Players' Ring Theatre 105 Marcy Street\, Portsmouth
UID:e.1659.12885
SEQUENCE:3
DTSTAMP:20260420T114838Z
URL:https://business.portsmouthchamber.org/events/details/emotion-memory-ravished-at-players-ring-theatre-01-01-2016-12885
END:VEVENT

END:VCALENDAR
